BEGIN:VCALENDAR
VERSION:2.0
PRODID:-//Matthieu Gevertz - accompagnateur en montagne - ECPv5.9.0//NONSGML v1.0//EN
CALSCALE:GREGORIAN
METHOD:PUBLISH
X-WR-CALNAME:Matthieu Gevertz - accompagnateur en montagne
X-ORIGINAL-URL:https://matthieugevertz-aem.fr
X-WR-CALDESC:évènements pour Matthieu Gevertz - accompagnateur en montagne
BEGIN:VTIMEZONE
TZID:UTC
BEGIN:STANDARD
TZOFFSETFROM:+0000
TZOFFSETTO:+0000
TZNAME:UTC
DTSTART:20220101T000000
END:STANDARD
END:VTIMEZONE
BEGIN:VEVENT
DTSTART;TZID=UTC:20220507T093000
DTEND;TZID=UTC:20220507T123000
DTSTAMP:20260426T042719
CREATED:20220419T101235Z
LAST-MODIFIED:20220419T104830Z
UID:992-1651915800-1651926600@matthieugevertz-aem.fr
SUMMARY:Sur la piste des bourdons \, infatigables pollinisateurs ! - une sortie du Wild Bees Project
DESCRIPTION:Le Wild Bees Project est une association de sensibilisation et de recherche scientifique autour des abeilles et des pollinisateurs. Nous vous proposons une sortie découverte. Au programme : \n\npollinisation et polinisateurs : une histoire commune de 110 Ma\nle bourdon : qui est-il ? combien d’espèces en compte-t-on en france ? comment le reconnaître\n\nDes ateliers ludiques et pédagogiques émailleront la sortie. Enfant dès 5 ans. \nTarification : libre (20 € suggéré correspondant à l’adhésion au WBP) \nDescription randonnée : au départ du Mont Mourex\, nous parcourrons la partie sud du Mont Mourex entre forêt et alpages\, entre rochers et prairies … à la rencontre de différents biotopes. Une randonnée facile et accessible au plus grand nombre pour observer les différents pollinisateurs (et en particulier les bourdons). \nMatériel : \n\nUn sac à dos 20 l minimum\nVêtements de randonnée (de préférence pantalons pour les tiques\, casquette\, crème solaire…)\nUne paire de chaussures de marche montante (semelle crantée)\nUne collation (barre céréale\, fruit…) et une gourde d’eau\n\nAssurance : Avoir une assurance RC individuelle ou Individuelle accident qui vous couvre pour les activités dites de randonnée en montagne. \nRdv : le 07/05/2022  à 9h30 au mont Mourex (Grilly) \nContact encadrement : Matthieu Gevertz matthieug.aem@gmail.com / 07 66 48 01 69 \nRéservation : ICI \n 
URL:https://matthieugevertz-aem.fr/event/sur-la-piste-des-bourdons-infatigables-pollinisateurs/
ATTACH;FMTTYPE=image/jpeg:https://matthieugevertz-aem.fr/wp-content/uploads/2022/04/IMG_0147_focus_bombus-humilis.jpg
END:VEVENT
END:VCALENDAR