BEGIN:VCALENDAR
VERSION:2.0
PRODID:-//Matthieu Gevertz - accompagnateur en montagne - ECPv5.9.0//NONSGML v1.0//EN
CALSCALE:GREGORIAN
METHOD:PUBLISH
X-WR-CALNAME:Matthieu Gevertz - accompagnateur en montagne
X-ORIGINAL-URL:https://matthieugevertz-aem.fr
X-WR-CALDESC:évènements pour Matthieu Gevertz - accompagnateur en montagne
BEGIN:VTIMEZONE
TZID:UTC
BEGIN:STANDARD
TZOFFSETFROM:+0000
TZOFFSETTO:+0000
TZNAME:UTC
DTSTART:20240101T000000
END:STANDARD
END:VTIMEZONE
BEGIN:VEVENT
DTSTART;TZID=UTC:20240225T070000
DTEND;TZID=UTC:20240225T180000
DTSTAMP:20260426T014058
CREATED:20240117T222200Z
LAST-MODIFIED:20240117T222200Z
UID:1382-1708844400-1708884000@matthieugevertz-aem.fr
SUMMARY:Rando-raquettes - le petit Bargy en Boucle (journée - 55 €)
DESCRIPTION:C’est à Malatrait en versant sud que nous laissons notre véhicule pour grimper à travers bois vers les chalets de la Cha puis la tête des Bécus. Après un passage escarpé\, nous atteignons la crête et naviguons entre les lapiaz typique du Bargy. La vue est imprenable\, magnifique sur les Aravis \, le Chablais \, les Fiz …  \nLa descente se fait par le crête et le col de l’Encrenaz.  \n\nDurée totale : 6h (dont 1h de pause) \nVitesse de progression attendue : 3 km/h\nDénivelée : 800 m environ\nDifficulté technique : 4/5\nEffort physique : 5/5\n\nLa destination\, le lieu et la durée de la randonnée peuvent évoluer en fonction des conditions météos sur initiative de l’organisateur. (Les participants seront informés par mail ou SMS). Attention selon l’enneigement et la météo\, difficulté technique et effort physique sont susceptibles d’évoluer significativement. \nRdv : Parking Jean Monnet à Saint-Genis-Pouilly à 7h00 \nTarif  :  30 € +25 € (Pack Sécurité (DVA Pelle Sonde)  \nLocation matériel : raquettes et bâtons 5 €  \nCovoiturage : possible entre participants – 5 € (à régler le jour J au chauffeur) \nMatériel nécessaire : \n\nUn sac à dos 30 l minimum\nVêtements de randonnée hivernale (pantalon respirant\, veste adaptée\, bonnet\, gants\, pull ou polaire\, lunettes de soleil\, crème solaire …)\nUne paire de chaussures de marche montante (semelle crantée)\nUne gourde d’1L minimum\, un petit thermos (eau chaude\, café\, …)\nRaquettes et une paire de bâton de marche (possibilité d’en louer)\nUne frontale / lampe de poche (en fonction)\nUne collation (barre céréale\, fruit…) et un pic-nic (si randonnée journée)\n\nAssurance : Avoir une assurance RC individuelle ou Individuelle accident qui vous couvre pour les activités dites de randonnée en montagne. \nContact organisateur  : Matthieu Gevertz 07 66 48 01 69 matthieug.aem@gmail.com
URL:https://matthieugevertz-aem.fr/event/rando-raquettes-le-petit-bargy-en-boucle-journee-55-e/
ATTACH;FMTTYPE=image/jpeg:https://matthieugevertz-aem.fr/wp-content/uploads/2024/01/randoon16778-cd871.jpg
END:VEVENT
END:VCALENDAR