BEGIN:VCALENDAR
VERSION:2.0
PRODID:-//Matthieu Gevertz - accompagnateur en montagne - ECPv5.9.0//NONSGML v1.0//EN
CALSCALE:GREGORIAN
METHOD:PUBLISH
X-WR-CALNAME:Matthieu Gevertz - accompagnateur en montagne
X-ORIGINAL-URL:https://matthieugevertz-aem.fr
X-WR-CALDESC:évènements pour Matthieu Gevertz - accompagnateur en montagne
BEGIN:VTIMEZONE
TZID:UTC
BEGIN:STANDARD
TZOFFSETFROM:+0000
TZOFFSETTO:+0000
TZNAME:UTC
DTSTART:20220101T000000
END:STANDARD
END:VTIMEZONE
BEGIN:VEVENT
DTSTART;TZID=UTC:20220219T084500
DTEND;TZID=UTC:20220219T173000
DTSTAMP:20260426T042422
CREATED:20220131T200815Z
LAST-MODIFIED:20220131T201335Z
UID:936-1645260300-1645291800@matthieugevertz-aem.fr
SUMMARY:Rando-Concert à Varambon
DESCRIPTION:Côté Rando:  \nAu départ de Menthières nous partons à travers bois pour les Alpages du Crêt d’Eau\, sommet sud de la Haute -Chaîne. A l’écoute de la nature nous accueillerons la mélodie du voyage et de la randonnée. Symphonie du rythme des raquettes qui s’entrechoquent\, sur la neige  croutée\, poudreuse ou soufflée… Une balade accessible dès 7 ans (environ) Niveau : marmotte en balade (3/5) \nCôté Musique :  \nSur le chemin du retour\, nos pas nous emmènerons vers Varambon . Une petite boisson chaude pour réchauffer nos cœurs …c’est cette fois nos oreilles qui nous emmènerons en voyage sur les notes et la voix de Caillou \nMatériel : \n\nUn sac à dos 30 l minimum\nVêtements de randonnée hivernale (pantalon respirant\, veste adaptée\, bonnet\, gants\, pull ou polaire\, lunettes de soleil\, crème solaire …)\nUne paire de chaussures de marche montante (semelle crantée)\nUne gourde d’1L minimum\, un petit thermos (eau chaude\, café\, …)\nRaquettes et une paire de bâton de marche (possibilité d’en louer)\nUne frontale / lampe de poche\nUn pull bien chaud pour ne pas avoir froid pendant le concert\nUne collation (barre céréale\, fruit…) et un pic-nic (si randonnée journée)\nMasque et flasque de gel hydroalcoolique\n\nAssurance :  \nAvoir une assurance RC individuelle ou Individuelle accident qui vous couvre pour les activités dites de randonnée en montagne. \nRdv : le 19/02 à 8h45 au parc Jean Monnet à Saint-Genis ou 9h45 à Menthières (Le Château https://goo.gl/maps/AZJLeaaecuhwKAZu7) \nCe qui est inclus : \n\nle vin chaud/ jus de pomme chaud et quelques gourmandises\nle concert\nla sortie\n\nCe qui n’est pas inclus :  \n\nle matériel (raquette bâtons) – location possible 5 € adulte / 3 € enfant\nle trajet (un covoiturage sera organisé depuis Saint-Genis-Pouilly)\n\nContact encadrement : Matthieu Gevertz matthieug.aem@gmail.com / 07 66 48 01 69 \n  \nLien Réservation : JE M’INSCRIS  \nJe veux simplement poser une option (place non garantie) : matthieug.aem@gmail.com \n 
URL:https://matthieugevertz-aem.fr/event/rando-concert-a-varambon/
ATTACH;FMTTYPE=image/png:https://matthieugevertz-aem.fr/wp-content/uploads/2022/01/rando-concert-sepia-2.png
END:VEVENT
END:VCALENDAR