BEGIN:VCALENDAR
VERSION:2.0
PRODID:-//Matthieu Gevertz - accompagnateur en montagne - ECPv5.9.0//NONSGML v1.0//EN
CALSCALE:GREGORIAN
METHOD:PUBLISH
X-WR-CALNAME:Matthieu Gevertz - accompagnateur en montagne
X-ORIGINAL-URL:https://matthieugevertz-aem.fr
X-WR-CALDESC:évènements pour Matthieu Gevertz - accompagnateur en montagne
BEGIN:VTIMEZONE
TZID:UTC
BEGIN:STANDARD
TZOFFSETFROM:+0000
TZOFFSETTO:+0000
TZNAME:UTC
DTSTART:20240101T000000
END:STANDARD
END:VTIMEZONE
BEGIN:VEVENT
DTSTART;TZID=UTC:20240904T180000
DTEND;TZID=UTC:20240904T223000
DTSTAMP:20260425T201126
CREATED:20240803T134758Z
LAST-MODIFIED:20240806T134849Z
UID:1447-1725472800-1725489000@matthieugevertz-aem.fr
SUMMARY:Rand'O Apér'O - le vallon de l'Allondon ( à partir de 12 €)
DESCRIPTION:Objectif : Vallon de l’Allondon \nDurée totale : 3h30 (pauses inclues – temps de marche environ 2h) \nVitesse de progression attendue : 4 km/h \nDénivelée : 45  m \nDifficulté technique : 2/5 \nEffort physique : 2/5 \nRdv : Parking magasin Horsewood \, zone de la Praille Thoiry  https://goo.gl/maps/JkZnm2wJhVPdvFPGA \nTarif : participation volontaire. Voilà quelques repères de prix : 12 € (survie) 18 € (standard) 25€ (supporter) \nRand’O ApérO c’est quoi ? \nAprès le boulot je vous propose une randonnée accessible au plus grand nombre à la découverte du Pays de Gex. Selon la sortie\, la destination\, nous découvrirons des sites naturels\, du patrimoine ou un peu des deux. \nUne dégustation de produits du terroir (boisson uniquement vu le contexte sanitaire) sera également proposée. \nDéroulé côté Rand’O: \nDémarrant dans une atmosphère mystérieuse dans le vallon de la Roulave\, nous raconterons une petite partie de l’histoire du Vallon de l’Allondon que l’homme a essayé de dompter pour finalement le laisser sauvage ! Cette balade bucolique le long de la rivière est un appel à ralentir. La destination\, le lieu et la durée de la randonnée peuvent évoluer en fonction des conditions météos sur initiative de l’organisateur. (Les participants seront informés par mail ou SMS) \nDéroulé côté apér’O \nDes produits locaux \, à boire ou à manger ! \nMatériel nécessaire : \n\nun sac à dos 20 l minimum contenant des lunettes de soleil\, une gourde d’1L minimum\, une frontale / lampe de poche\, une petite serviette\, une paire de chaussure d’eau ; pour ceux qui le souhaite de quoi compléter la dégustation (pic-nic))\nVêtements de pluie (en fonction)\nune paire de chaussures de randonnée (semelle crantée\, tige haute ou basse)\nune paire de bâtons télescopiques (facultatifs)\n\nLe prix comprend : \n\nune dégustation de produits locaux\n\nLe prix ne comprend pas :  \n\nle transport jusqu’au point de départ\nle ticket de bus pour remonter (3 CHF)\n\nContact encadrement : Matthieu Gevertz matthieug.aem@gmail.com  / 07 66 48 01 69
URL:https://matthieugevertz-aem.fr/event/rando-apero-le-vallon-de-lallondon/
ATTACH;FMTTYPE=image/jpeg:https://matthieugevertz-aem.fr/wp-content/uploads/2024/08/20190717_212524-scaled.jpg
END:VEVENT
END:VCALENDAR