BEGIN:VCALENDAR
VERSION:2.0
PRODID:-//Matthieu Gevertz - accompagnateur en montagne - ECPv5.9.0//NONSGML v1.0//EN
CALSCALE:GREGORIAN
METHOD:PUBLISH
X-WR-CALNAME:Matthieu Gevertz - accompagnateur en montagne
X-ORIGINAL-URL:https://matthieugevertz-aem.fr
X-WR-CALDESC:évènements pour Matthieu Gevertz - accompagnateur en montagne
BEGIN:VTIMEZONE
TZID:UTC
BEGIN:STANDARD
TZOFFSETFROM:+0000
TZOFFSETTO:+0000
TZNAME:UTC
DTSTART:20240101T000000
END:STANDARD
END:VTIMEZONE
BEGIN:VEVENT
DTSTART;TZID=UTC:20240912T183000
DTEND;TZID=UTC:20240912T223000
DTSTAMP:20260425T200754
CREATED:20240803T135934Z
LAST-MODIFIED:20240910T035020Z
UID:1451-1726165800-1726180200@matthieugevertz-aem.fr
SUMMARY:Rand'O Apér'O - le Rhône frontière ( à partir de 12 €)
DESCRIPTION:Objectif : Au bord du Rhône dans les bois de Chancy \nDurée totale : 2h30 (pauses inclues – temps de marche environ 1h30) \nDénivelée : 130  m \nDifficulté technique : 1/5 \nEffort physique : 2/5 \nRdv : Stade de Challex https://goo.gl/maps/VNUwAune18x(Possibilité de se rejoindre sur place à Chancy) \nTarif : participation volontaire. Voilà quelques repères de prix : 12 € (survie) 18 € (standard) 25€ (supporter) \nRand’O ApérO c’est quoi ? \nAprès le boulot je vous propose une randonnée accessible au plus grand nombre à la découverte du Pays de Gex. Selon la sortie\, la destination\, nous découvrirons des sites naturels\, du patrimoine ou un peu des deux. \nDéroulé côté Rand’O: \nCet épisode nous entraîne sur les bords du Rhône côté helvétique dans un bois de hêtres et de chêne. Au bord de l’eau ce parcours est reposant pour les yeux et l’esprit. Nous passerons par la borne frontière n°1\, la borne la plus occidentale de la confédération helvétique. \nLa destination\, le lieu et la durée de la randonnée peuvent évoluer en fonction des conditions météos sur initiative de l’organisateur. (Les participants seront informés par mail ou SMS) \nDéroulé côté apér’O \nUne dégustation de produits locaux … \nMatériel nécessaire : \n\nun sac à dos 20 l minimum contenant des lunettes de soleil\, une gourde d’1L minimum\, une frontale / lampe de poche\, un  erre de type ecocup ; pour ceux qui le souhaite de quoi compléter la dégustation (pic-nic))\nVêtements de pluie (en fonction)\nune paire de chaussures de randonnée (semelle crantée\, tige haute ou basse)\nune paire de bâtons télescopiques (facultatifs)\n\nLe prix comprend : \n\nune dégustation de produits locaux\n\nLe prix ne comprend pas :  \n\nle transport jusqu’au point de départ\n\nContact encadrement : Matthieu Gevertz matthieug.aem@gmail.com  / 07 66 48 01 69
URL:https://matthieugevertz-aem.fr/event/rando-apero-le-rhone-frontiere-2/
ATTACH;FMTTYPE=image/jpeg:https://matthieugevertz-aem.fr/wp-content/uploads/2022/05/IMG_7460-scaled-e1652385032420.jpg
END:VEVENT
END:VCALENDAR