BEGIN:VCALENDAR
VERSION:2.0
PRODID:-//Matthieu Gevertz - accompagnateur en montagne - ECPv5.9.0//NONSGML v1.0//EN
CALSCALE:GREGORIAN
METHOD:PUBLISH
X-WR-CALNAME:Matthieu Gevertz - accompagnateur en montagne
X-ORIGINAL-URL:https://matthieugevertz-aem.fr
X-WR-CALDESC:évènements pour Matthieu Gevertz - accompagnateur en montagne
BEGIN:VTIMEZONE
TZID:UTC
BEGIN:STANDARD
TZOFFSETFROM:+0000
TZOFFSETTO:+0000
TZNAME:UTC
DTSTART:20240101T000000
END:STANDARD
END:VTIMEZONE
BEGIN:VEVENT
DTSTART;TZID=UTC:20241230T133000
DTEND;TZID=UTC:20241230T163000
DTSTAMP:20260425T200940
CREATED:20241128T164723Z
LAST-MODIFIED:20241128T164735Z
UID:1538-1735565400-1735576200@matthieugevertz-aem.fr
SUMMARY:Les p'tits trappeurs - Noël 2024-2025
DESCRIPTION:Programme :\n\nLes P’tits Trappeurs c’est 3 après-midis pour découvrir la nature tout en s’amusant pour les 4 à 10 ans. Inscription à la carte pour une ou plusieurs sorties\, nos petits aventuriers partiront à la découverte de la montagne. Ces après-midis vous sont proposées par des professionnels\, accompagnateurs en montagne diplômés d’Etat. (Rose-May Halbout et Matthieu Gevertz)\nNombre d’inscrits maximum : 9 par demi-journée par guide.\n\n\n\nLundi 30 décembre 2024 : Les Ptits Trappeurs sur les traces des animaux (raquettes)\nMardi 31 décembre 2024 : Construction d’igloos\nMercredi 1er janvier 2025 : Sculptures et Glissades\n\n\nRdv : au col de la Faucille devant l’hôtel la Petite Chaumière à 13h30. Retour à 16h30.\nPRIX : 23 euros\nMatériel pour chaque enfant : \n\ndes affaires chaudes (pull\, combinaison de ski\, bonnet et gants imperméables – éviter les gants en polaire qui prennent l’eau au contact de la neige)\nun petit sac à dos contenant (une bouteille d’eau \, un gouter \, une paire de chaussette de rechange\, des lunettes de soleil\, 1 masque et gel hydroalcoolique). La crème solaire doit avoir été mise par les parents avant la séance\n\nPolitique de remboursement et des annulations \nLes motifs de remboursements sont les suivants : \n\n7 jours avant l’événement sans justificatif\nMaladie sur justificatif\nContraintes sanitaires\nAnnulation par les organisateurs\n\nQuestions ou informations : Matthieu Gevertz 07 66 48 01 69 \nLien pour l’inscription : https://cortigrimpe01.fr/valserineresa/ \n 
URL:https://matthieugevertz-aem.fr/event/les-ptits-trappeurs-noel-2024-2025/
ATTACH;FMTTYPE=image/jpeg:https://matthieugevertz-aem.fr/wp-content/uploads/2022/02/20211221_143538-scaled.jpg
END:VEVENT
END:VCALENDAR