BEGIN:VCALENDAR
VERSION:2.0
PRODID:-//Matthieu Gevertz - accompagnateur en montagne - ECPv5.9.0//NONSGML v1.0//EN
CALSCALE:GREGORIAN
METHOD:PUBLISH
X-WR-CALNAME:Matthieu Gevertz - accompagnateur en montagne
X-ORIGINAL-URL:https://matthieugevertz-aem.fr
X-WR-CALDESC:évènements pour Matthieu Gevertz - accompagnateur en montagne
BEGIN:VTIMEZONE
TZID:UTC
BEGIN:STANDARD
TZOFFSETFROM:+0000
TZOFFSETTO:+0000
TZNAME:UTC
DTSTART:20220101T000000
END:STANDARD
END:VTIMEZONE
BEGIN:VEVENT
DTSTART;TZID=UTC:20220303T130000
DTEND;TZID=UTC:20220303T170000
DTSTAMP:20260426T042326
CREATED:20220301T151731Z
LAST-MODIFIED:20220301T204551Z
UID:974-1646312400-1646326800@matthieugevertz-aem.fr
SUMMARY:Le défilé du Fort l'Ecluse
DESCRIPTION:Descriptif :  \nUne première sortie presque printanière dans un coin sauvage et merveilleux… le défilé du fort l’Ecluse. Une randonnée à la demi-journée pour se remettre en jambe avec quand même un peu de dénivelé ! (400m environ) . En partant du fort l’Ecluse nous nous dirigerons sur les flancs du Crêt d’Eau puis vers Leaz et son ancien château. Nous finirons par les bords du Rhône. \nMatériel : \n\nUn sac à dos 30 l minimum\nVêtements de randonnée hivernale (pantalon respirant\, veste adaptée\, bonnet\, gants\, pull ou polaire\, lunettes de soleil\, crème solaire …)\nUne paire de chaussures de marche montante (semelle crantée)\nUne gourde d’1L minimum\, un petit thermos (eau chaude\, café\, …)\nRaquettes et une paire de bâton de marche (possibilité d’en louer)\nUne frontale / lampe de poche\nUne collation (barre céréale\, fruit…) et un pic-nic (si randonnée journée)\nMasque et flasque de gel hydroalcoolique\n\nAssurance :  \nAvoir une assurance RC individuelle ou Individuelle accident qui vous couvre pour les activités dites de randonnée en montagne. \nRdv : à Thoiry 13h sur le parking de Starcom Auto \nCe qui n’est pas inclus :  \n\nle trajet (un covoiturage sera organisé depuis Thoiry)\n\nContact encadrement : Matthieu Gevertz matthieug.aem@gmail.com / 07 66 48 01 69 \n 
URL:https://matthieugevertz-aem.fr/event/le-defile-du-fort-lecluse/
ATTACH;FMTTYPE=image/jpeg:https://matthieugevertz-aem.fr/wp-content/uploads/2022/03/20210418_092512-scaled.jpg
END:VEVENT
END:VCALENDAR