BEGIN:VCALENDAR
VERSION:2.0
PRODID:-//Matthieu Gevertz - accompagnateur en montagne - ECPv5.9.0//NONSGML v1.0//EN
CALSCALE:GREGORIAN
METHOD:PUBLISH
X-WR-CALNAME:Matthieu Gevertz - accompagnateur en montagne
X-ORIGINAL-URL:https://matthieugevertz-aem.fr
X-WR-CALDESC:évènements pour Matthieu Gevertz - accompagnateur en montagne
BEGIN:VTIMEZONE
TZID:UTC
BEGIN:STANDARD
TZOFFSETFROM:+0000
TZOFFSETTO:+0000
TZNAME:UTC
DTSTART:20250101T000000
END:STANDARD
END:VTIMEZONE
BEGIN:VEVENT
DTSTART;TZID=UTC:20250308T090000
DTEND;TZID=UTC:20250308T160000
DTSTAMP:20260423T102052
CREATED:20241205T080621Z
LAST-MODIFIED:20250123T150649Z
UID:1588-1741424400-1741449600@matthieugevertz-aem.fr
SUMMARY:Fondue grandeur nature ( à partir de 49 € par personne)
DESCRIPTION:Objectif : Raquettes aux pieds au cœur de la montagne jurassienne. Nous partons entre monts et forêts pour une randonnée. Arrive midi et le temps de la pause de midi\, peu banale ; nous allumons un feu et voilà une fondue grandeur nature pour une expérience inoubliable ! \nDurée totale : 6h (pauses inclues – temps de marche environ 3h30) Accessible aux enfants à partir de 8 ans. \nVitesse de progression attendue : 2-3 km/h \nDifficulté technique : adaptable \nEffort physique : adaptable \nRdv : secteurs possibles : Menthières\, Retord\, Bellecombe\, Lelex\, Lajoux …) \nTarif : 54€ par personne / sortie groupe à partir de 4 personnes (49 €) \nDéroulé de notre journée : \nNous démarrons notre journée au cœur des Hautes-Combes du Jura. Une balade immersive pour se reconnecter à la nature. Accessible à tous. Arrive le moment où nous devons préparer le feu\, trouver du bois mort et de quoi allumer le feu … une étincelle\, une flamme … c’est gagné ! il faut entretenir le feu maintenant ! Les braises sont là… la cuisine au feu de bois peut commencer. Après la fondue\, retour vers le point de départ pour 15h30-16h. \nMenu proposé : \nBiscuits apéritifs\, charcuterie \, fondue \, fruit\, chocolat et boisson (jus de fruit et/ou vin) \nLa destination\, le lieu et la durée de la randonnée peuvent évoluer en fonction des conditions météos sur initiative de l’organisateur. (Les participants seront informés par mail ou SMS). Attention selon l’enneigement et la météo\, difficulté technique et effort physique sont susceptibles d’évoluer significativement.  \nMatériel nécessaire : \n\nUn sac à dos 30 l minimum\nVêtements de randonnée hivernale (pantalon respirant\, veste adaptée\, bonnet\, gants\, pull ou polaire\, lunettes de soleil\, crème solaire …)\nUne paire de chaussures de marche montante (semelle crantée)\nUne gourde d’1L minimum\, un petit thermos (eau chaude\, café\, …)\nRaquettes et une paire de bâton de marche (possibilité d’en louer)\nUne frontale / lampe de poche\nUne collation (barre céréale\, fruit…) et un pic-nic (si randonnée journée)\n\nLe prix comprend : \n\nLa fondue\nL’encadrement et la location de raquette\n\nLe prix ne comprend pas : \n\nle transport jusqu’au point de départ\n\nAssurance : Avoir une assurance RC individuelle ou Individuelle accident qui vous couvre pour les activités dites de randonnée en montagne. \nContact encadrement : Matthieu Gevertz matthieug.aem@gmail.com  / 07 66 48 01 69 \nRéservation : https://cortigrimpe01.fr/valserineresa/
URL:https://matthieugevertz-aem.fr/event/fondue-grandeur-nature-a-partir-de-49-e-par-personne-3/
ATTACH;FMTTYPE=image/jpeg:https://matthieugevertz-aem.fr/wp-content/uploads/2024/12/20230115_132544.jpg
END:VEVENT
END:VCALENDAR