BEGIN:VCALENDAR
VERSION:2.0
PRODID:-//Matthieu Gevertz - accompagnateur en montagne - ECPv5.9.0//NONSGML v1.0//EN
CALSCALE:GREGORIAN
METHOD:PUBLISH
X-WR-CALNAME:Matthieu Gevertz - accompagnateur en montagne
X-ORIGINAL-URL:https://matthieugevertz-aem.fr
X-WR-CALDESC:évènements pour Matthieu Gevertz - accompagnateur en montagne
BEGIN:VTIMEZONE
TZID:UTC
BEGIN:STANDARD
TZOFFSETFROM:+0000
TZOFFSETTO:+0000
TZNAME:UTC
DTSTART:20230101T000000
END:STANDARD
END:VTIMEZONE
BEGIN:VEVENT
DTSTART;TZID=UTC:20230129T083000
DTEND;TZID=UTC:20230129T180000
DTSTAMP:20260426T030738
CREATED:20230106T205242Z
LAST-MODIFIED:20230106T210433Z
UID:1167-1674981000-1675015200@matthieugevertz-aem.fr
SUMMARY:Rdv au mont Sala pour aller danser !  - journée
DESCRIPTION:En raquettes me direz-vous ce n’est pas très pratique\, mais enfin il suffit de les bloquer à l’arrière … Trêve de plaisanterie ; nous voilà parti du bois d’Amont (Landes d’Aval) . Nous nous dirigeons vers le creux de la Neige\, la balade est féérique au cœur de la forêt vaudoise. Nous arrivons enfin au premier sommet de la journée le Mont Sala avec une vue imprenable sur le Leman et les Alpes. Nous traversons ensuite une serie de combes et de bois pour atteindre le tant attendu crêt des Danses. Retour ensuite vers notre point de départ.  \n\nDurée totale : 6h environ (incluant une pause d’1h)\nVitesse de progression attendue : 3 km/h\nDénivelée : 700 m environ\nDifficulté technique : 3/5\nEffort physique : 5/5\n\nLa destination\, le lieu et la durée de la randonnée peuvent évoluer en fonction des conditions météos sur initiative de l’organisateur. (Les participants seront informés par mail ou SMS). Attention selon l’enneigement et la météo\, difficulté technique et effort physique sont susceptibles d’évoluer significativement. \nRdv : Parking Pertemps à Gex  à 8h30 \nTarifs hors location de matériel :  30 € \nMatériel : raquettes et bâtons 5 € \nCovoiturage : 3 € (à régler le jour J au chauffeur) \nMatériel nécessaire : \n\nUn sac à dos 30 l minimum\nVêtements de randonnée hivernale (pantalon respirant\, veste adaptée\, bonnet\, gants\, pull ou polaire\, lunettes de soleil\, crème solaire …)\nUne paire de chaussures de marche montante (semelle crantée)\nUne gourde d’1L minimum\, un petit thermos (eau chaude\, café\, …)\nRaquettes et une paire de bâton de marche (possibilité d’en louer)\nUne frontale / lampe de poche (en fonction)\nUne collation (barre céréale\, fruit…) et un pic-nic (si randonnée journée)\n\nAssurance : Avoir une assurance RC individuelle ou Individuelle accident qui vous couvre pour les activités dites de randonnée 
URL:https://matthieugevertz-aem.fr/event/dimanche-29-janvier-2023-rdv-au-mont-sala-pour-aller-danser-journee/
ATTACH;FMTTYPE=image/jpeg:https://matthieugevertz-aem.fr/wp-content/uploads/2023/01/bcd9f1e3f8f4a5f2b1d22695b851f36b.jpg
END:VEVENT
END:VCALENDAR